BEGIN:VCALENDAR
VERSION:2.0
PRODID:-//wp-events-plugin.com//7.1.7//EN
BEGIN:VEVENT
UID:3560@yokohamatanguera.com
DTSTART:20260425T190000Z
DTEND:20260425T220000Z
DTSTAMP:20260420T000905Z
URL:https://yokohamatanguera.com/events/milonga-marea/
SUMMARY:Milonga Marea
DESCRIPTION:港町横浜の夜に、新しいタンゴの波が寄せる―
 ―Milonga Marea\n大人の時間を彩る心地よい音楽と、潮風
 を感じる\n開放感の中で生まれる、Story。\n自由で親密
 な夜を、Studio Solでご一緒に。\nゆったりとした流れの
 中で、\n心地よく踊れるミロンガを目指しています。\n
 春宵の横濱を感じながら、\nそれぞれのスタイルでそれ
 ぞれのタンゴを\nどうぞごゆっくりとお愉しみください
 。\nAki手作りのスイーツをご用意して\nお待ちしていま
 す。\n2026年4月25日（土）19:00～22:00\n入場料 2\,500円（1ド
 リンク付）\n同日午後に、Kawasaki Nikko Hotelで開催される
 「NPO法人 HARU Grand Opening Party」\n(Enrique y Akiデモ出演決定
 ！こちらもぜひ♪)\nへのご参加者様は、「Milonga Marea Vol
 .3」に\n特別価格2\,000円(1ドリンク付)で\nご参加いただ
 けます。
ATTACH;FMTTYPE=image/jpeg:https://yokohamatanguera.com/wp-content/uploads/
 2026/04/260425sol.jpg
CATEGORIES:Milonga
LOCATION:Sol ダンスカラオケ舞\, 4丁目25-7　1階\, 横浜市南
 区山王町\, 神奈川県\, 日本
X-APPLE-STRUCTURED-LOCATION;VALUE=URI;X-ADDRESS=4丁目25-7　1階\, 横浜
 市南区山王町\, 神奈川県\, 日本;X-APPLE-RADIUS=100;X-TITLE=Sol 
 ダンスカラオケ舞:geo:0,0
END:VEVENT
END:VCALENDAR